BEGIN:VCALENDAR
VERSION:2.0
PRODID:-//WA Occupational Therapy Association - ECPv6.15.18//NONSGML v1.0//EN
CALSCALE:GREGORIAN
METHOD:PUBLISH
X-WR-CALNAME:WA Occupational Therapy Association
X-ORIGINAL-URL:https://waota.com.au
X-WR-CALDESC:Events for WA Occupational Therapy Association
REFRESH-INTERVAL;VALUE=DURATION:PT1H
X-Robots-Tag:noindex
X-PUBLISHED-TTL:PT1H
BEGIN:VTIMEZONE
TZID:Australia/Perth
BEGIN:STANDARD
TZOFFSETFROM:+0800
TZOFFSETTO:+0800
TZNAME:AWST
DTSTART:20190101T000000
END:STANDARD
END:VTIMEZONE
BEGIN:VEVENT
DTSTART;TZID=Australia/Perth:20201106T083000
DTEND;TZID=Australia/Perth:20201106T170000
DTSTAMP:20260423T213516
CREATED:20200211T015908Z
LAST-MODIFIED:20210212T043626Z
UID:41946-1604651400-1604682000@waota.com.au
SUMMARY:Hand Therapy Soft Tissue Course
DESCRIPTION:HAND THERAPY SOFT TISSUE COURSE – ROISIN SULLIVAN \nIn this full-day course\, Roisin Sullivan will present a range of both theory and practical soft tissue skills relevant to hand therapists. \nRoisin Sullivan is the an Occupational Therapist that has practiced exclusively in Soft Tissue OT for the past 15 years to promote occupational performance for her clients. She is the convener of the Soft Tissue OT Interest Group of WA and has a strong interest in the professional development of students and therapists in the field\, both teaching and mentoring new therapists in the area of practice. \nThe course will address the foundations and principles of soft tissue treatment in OT\, as well as considering evidence-based interventions for managing the soft tissue issues of hand and upper limb conditions. \nAttendees will cover a range of clinically relevant information\, including the Principles of management of soft tissue conditions along with :- \n\nCommon clinical soft tissue assessments\nBarriers to soft tissue healing\, inflammatory considerations and complex cases\nReferred pain considerations\nNeural and plexus connections and influences\nPostural considerations and assessments\nConsideration of shoulder\, scapular and cervical involvement in hand and upper limb conditions\nPrinciples of soft tissue release\nConsideration of best evidence-based practice and current clinical interventions in soft tissue management\nContraindications in soft tissue management\nPractical demonstrations throughout and small hands-on practice groups\n\n\n\n\n\nHand Therapy – Soft Tissue Course\n\n\nDate\nFriday 6th November 2020 \n8:30 – 17:00\n\n\nVenue\nPagoda Ballroom\, Pagoda Resort\, \n112 Melville Parade\, Como\n\n\n      Cost \n  \n  \n \nEarly bird before 6/10/20 \nMember $200 \nRural/ remote $150 \nNon-members $395 \nStudent $100 \nStandard rate after 6/10/20 \nMember $250 \nRural/ remote $175 \nNon-members $395 \nStudent $200\n\n\nRefreshments\nWelcome coffee/tea\, morning tea\, lunch and afternoon tea provided\n\n\n\nPay via invoice options are available using the ‘Book Online’ function below. Proceed to checkout and please ensure your billing details including company name are correct. Once your order has been received our finance officer will generate your invoice and email to the email address provided \nBook Online\nIf you prefer booking offline\, you can use the registration form below :- \n*PD Registration Form 2020
URL:https://waota.com.au/event/hand-therapy-soft-tissue-course-2/
LOCATION:Pagoda Ballroom\, Pagoda Resort\, 112 Melville Parade\, Como\, Western Australia\, 6152\, Australia
CATEGORIES:Courses
ATTACH;FMTTYPE=image/jpeg:https://waota.com.au/wp-2019/wp-content/uploads/2020/02/Soft-tissue-3-e1597376265549.jpg
END:VEVENT
END:VCALENDAR