BEGIN:VCALENDAR
VERSION:2.0
PRODID:-//WA Occupational Therapy Association - ECPv6.15.18//NONSGML v1.0//EN
CALSCALE:GREGORIAN
METHOD:PUBLISH
X-ORIGINAL-URL:https://waota.com.au
X-WR-CALDESC:Events for WA Occupational Therapy Association
REFRESH-INTERVAL;VALUE=DURATION:PT1H
X-Robots-Tag:noindex
X-PUBLISHED-TTL:PT1H
BEGIN:VTIMEZONE
TZID:Australia/Perth
BEGIN:STANDARD
TZOFFSETFROM:+0800
TZOFFSETTO:+0800
TZNAME:AWST
DTSTART:20200101T000000
END:STANDARD
END:VTIMEZONE
BEGIN:VEVENT
DTSTART;TZID=Australia/Perth:20210514T130000
DTEND;TZID=Australia/Perth:20210514T170000
DTSTAMP:20260424T124716
CREATED:20210120T032755Z
LAST-MODIFIED:20210518T031504Z
UID:54802-1620997200-1621011600@waota.com.au
SUMMARY:Emotional Intelligence
DESCRIPTION:Emotional Intelligence: Turning Instinct into Action \n Presenter \nDr Margaret Potter\, Principal Smart Moves Consultancy \n  \nWorkshop outline \nOur emotions are so often contagious and a single person can influence the tone\, energy and focus of a group both for better and for worse. So\, what impact do you want to have on your team or family? How can you improve your skills to better manage important relationships at work or at home? How can you utilise EI to foster a positive and productive environment? \nThis interactive session on EI will explore the value of building self and social awareness and relationship management skills. At the end of the session participants will be able to: \n\nDefine and discuss the importance of EI\nSelf-assess their EI\nIdentify strategies to recognise the impact of their emotions on performance\nDiscuss how to support others to improve their EI\nExplore ways to improve EI in the workplace\n\nAbout the presenter \nDr Margaret Potter is an education consultant\, health professional and internationally certified coach with more than 20 years of experience working with individuals\, groups and organisations to optimise communication\, teamwork and workplace-based performance. Margaret has an interactive approach and enjoys engaging\, informing and entertaining participants. \n\n\n\nDate\nFriday May 14th\, 2021\n\n\nTime\n13:00 -17:00 \n \n\n\nVenue\nPagoda Ballroom\, Pagoda Resort\, 112 Melville Parade\, Como\n\n\nCost\nEarly Bird before 14/4/21 \nMember $100.00 \nRural/remote member $75.00 \nNon-members $187.50 \nStudent $50.00 \n  \nStandard after 14/4/21 \nMember $125.00 \nRural/ remote member $92.50 \nNon-members $187.50 \nStudent $65.00\n\n\nRefreshments\nAfternoon Tea included\n\n\n\nBook Online\nOf you prefer booking offline\, you can use the registration form below. \n**PD Registration Form 2021 \nPay via invoice options are available using the ‘Book Online’ function below. Proceed to checkout and please ensure your billing details including company name are correct. Once your order has been received our finance officer will generate your invoice and email to the email address provided
URL:https://waota.com.au/event/emotional-intelligence/
LOCATION:Pagoda Ballroom\, Pagoda Resort\, 112 Melville Parade\, Como\, Western Australia\, 6152\, Australia
CATEGORIES:Courses
END:VEVENT
END:VCALENDAR