BEGIN:VCALENDAR
VERSION:2.0
PRODID:-//WA Occupational Therapy Association - ECPv6.15.18//NONSGML v1.0//EN
CALSCALE:GREGORIAN
METHOD:PUBLISH
X-WR-CALNAME:WA Occupational Therapy Association
X-ORIGINAL-URL:https://waota.com.au
X-WR-CALDESC:Events for WA Occupational Therapy Association
REFRESH-INTERVAL;VALUE=DURATION:PT1H
X-Robots-Tag:noindex
X-PUBLISHED-TTL:PT1H
BEGIN:VTIMEZONE
TZID:Australia/Perth
BEGIN:STANDARD
TZOFFSETFROM:+0800
TZOFFSETTO:+0800
TZNAME:AWST
DTSTART:20250101T000000
END:STANDARD
END:VTIMEZONE
BEGIN:VEVENT
DTSTART;TZID=Australia/Perth:20260328T083000
DTEND;TZID=Australia/Perth:20260328T163000
DTSTAMP:20260419T231308
CREATED:20250508T025306Z
LAST-MODIFIED:20251105T033647Z
UID:62742-1774686600-1774715400@waota.com.au
SUMMARY:Home Modifications Complex 2026
DESCRIPTION:Presented by Sandi Lightfoot \nThe complex course will include complex bathrooms for conceptual designs\, major ramps and lift considerations and kitchen design. Participants can attend the complex course only if the basic course has already been completed or they have 4 or more years experience within this clinical area or similar.  \nNDIA responsibilities will also be addressed as well as the National Associations working party issues as we are privileged to have Sandi with us who consults on these National committees. \nSCHOLARSHIP FOR HOME MODIFICATION COURSES \nWe are also pleased to announce that Sandra Lightfoot has kindly agreed to provide a scholarship to a rural and remote WAOTA member who attends a home modification course\, this will cover expenses including course registration\, travel and accommodation and will be reimbursed after the course has concluded.  \n(all Rural and Remote MEMBERS registered for this course will be considered for this scholarship) \n\n\n\nComplex Course\n\n\nDate\nSaturday 28th March 2026 \n8:45-16:30\n\n\nVenue\nPagoda Ballroom\, Pagoda Resort\, 112 Melville Parade\, Como\n\n\nCost \n  \n \nEarly bird before 28/1/26 \n\nMember – $300.00 \n\n\nRural/remote member or student – $300.00 \n\n\nNon-members – $654.00 \n\n\nStandard rate after 28/1/26 \n\n\nMember – $360.00 \n\n\nRural/remote member or student – $300.00 \n\n\nNon-members – $654.00 \n\n\n\n\nRefreshments\nWelcome coffee /tea\, morning tea\, lunch and afternoon tea provided\n\n\n\nBook Online
URL:https://waota.com.au/event/home-modifications-complex-2026/
LOCATION:Pagoda Ballroom\, Pagoda Resort\, 112 Melville Parade\, Como\, Western Australia\, 6152\, Australia
CATEGORIES:Courses
END:VEVENT
END:VCALENDAR