BEGIN:VCALENDAR
VERSION:2.0
PRODID:-//WA Occupational Therapy Association - ECPv6.15.18//NONSGML v1.0//EN
CALSCALE:GREGORIAN
METHOD:PUBLISH
X-ORIGINAL-URL:https://waota.com.au
X-WR-CALDESC:Events for WA Occupational Therapy Association
REFRESH-INTERVAL;VALUE=DURATION:PT1H
X-Robots-Tag:noindex
X-PUBLISHED-TTL:PT1H
BEGIN:VTIMEZONE
TZID:Australia/Perth
BEGIN:STANDARD
TZOFFSETFROM:+0800
TZOFFSETTO:+0800
TZNAME:AWST
DTSTART:20230101T000000
END:STANDARD
END:VTIMEZONE
BEGIN:VEVENT
DTSTART;TZID=Australia/Perth:20241121T161500
DTEND;TZID=Australia/Perth:20241121T173000
DTSTAMP:20260425T040730
CREATED:20241014T073655Z
LAST-MODIFIED:20241014T073655Z
UID:62223-1732205700-1732210200@waota.com.au
SUMMARY:Workplace Rehab Interest Group-ARPA Award Winning Case Studies-21st November
DESCRIPTION:Presenters: Gill Yates\, Frances Parkhowell and Elise Parker  \nGill Yates – Outstanding Achievement in Return to Work Award (Psychological Claim) \nAn Occupational Therapist with extensive experience in physical and psychological injuries\, specializing in veteran rehabilitation. Her case study involved a 55-year-old former naval marine technician with PTSD and Major Depressive Disorder. Despite significant barriers\, Gill guided the client through a non-return to work program\, vocational assessment\, and goal setting\, ultimately helping him secure employment in project management with a salary comparable to his naval pay. \nFrances Parkhowell – Outstanding Consultant Awards (Same Employer) \nA Rehabilitation Consultant at Recovre since 2022\, Frances brings a diverse background including geology and entrepreneurship to her recent transition into occupational therapy. Her case study focused on a worker with a serious ankle injury who was initially reluctant to return to work. Through facilitation of specialist case conferences\, addressing safety footwear concerns\, and resolving underlying fears\, Frances helped the worker return to normal duties earlier than expected. \nElise Parker – Outstanding Achievement in Return to Work Award (Physical Claim) \nA Rehabilitation Counsellor and Injury Management Consultant with over 16 years of experience across various industries. Her case study involved a 37-year-old Communications Technician who sustained a complex\, traumatic injury to her left arm. Despite a 31-month recovery period and significant permanent impairments\, Elise assisted the worker in redeploying to a new role with her pre-injury employer that accommodated her restrictions\, resulting in successful long-term employment on a FIFO roster. \nDate:                     Thursday 21st November 2024 \nTime:                     Registration 4:15pm – Presentation 4:30pm – 5:30pm \nLocation:              Online \nRSVP:                    By 14th November 2024 \nCost:\nWAOTA Members free (Please log into your account via our website to receive the member rate https://waota.com.au/login/ )\nNon-members $20.00 \nDue to recent changes in the WAOTA policies\, members only will receive a Certificate of Attendance after attending this meeting. Non-members are encouraged to retain their receipt and complete a written reflection on the PD session in accordance with Ahpra requirements for continuing professional development. \nBook Online
URL:https://waota.com.au/event/workplace-rehab-interest-group-arpa-award-winning-case-studies-21st-november/
LOCATION:Virtually Online
CATEGORIES:Courses,Interest Group Courses
ORGANIZER;CN="Workplace Rehabilitation Interest Group":MAILTO:WorkplaceRehab@waota.com.au
END:VEVENT
BEGIN:VEVENT
DTSTART;TZID=Australia/Perth:20241125T173000
DTEND;TZID=Australia/Perth:20241125T193000
DTSTAMP:20260425T040730
CREATED:20241107T022233Z
LAST-MODIFIED:20241107T022233Z
UID:62316-1732555800-1732563000@waota.com.au
SUMMARY:Hand Interest Group PD 25.11
DESCRIPTION:The WAOTA Hand Therapy Interest Group is pleased to invite you to our third meeting of the year on Monday 25th November via Zoom from 5:30pm – 7:30pm. \nWe’re excited to announce the following three presentations from Sir Charles Gairdner Hospital OT Hand & Upper Limb Clinic: \n\nMetacarpal head fractures and management – Chani van Swet\nTriquetral fractures: a review of the literature and therapeutic considerations – Taya Klisowski\nHand therapy scope of occupational therapists in a tertiary hospital emergency department – Bec Kevill\n\nCost:\nWAOTA Members free (Please log into your account via our website to receive the member rate https://waota.com.au/login/ )\nNon-members $20.00 \nPlease be aware that\, due to changes in the WAOTA policies\, only WAOTA members will receive a Certificate of Attendance after attending the meeting. Non-members are encouraged to retain their receipt and complete a written reflection on the PD session in accordance with Ahpra requirements for continuing professional development. \nWe hope to see you online! \nBook Online
URL:https://waota.com.au/event/hand-interest-group-pd-25-11/
CATEGORIES:Courses,Interest Group Courses
ORGANIZER;CN="Hand Interest Group":MAILTO:handinterestgroup@gmail.com
END:VEVENT
END:VCALENDAR