BEGIN:VCALENDAR
VERSION:2.0
PRODID:-//WA Occupational Therapy Association - ECPv6.15.18//NONSGML v1.0//EN
CALSCALE:GREGORIAN
METHOD:PUBLISH
X-ORIGINAL-URL:https://waota.com.au
X-WR-CALDESC:Events for WA Occupational Therapy Association
REFRESH-INTERVAL;VALUE=DURATION:PT1H
X-Robots-Tag:noindex
X-PUBLISHED-TTL:PT1H
BEGIN:VTIMEZONE
TZID:Australia/Perth
BEGIN:STANDARD
TZOFFSETFROM:+0800
TZOFFSETTO:+0800
TZNAME:AWST
DTSTART:20240101T000000
END:STANDARD
END:VTIMEZONE
BEGIN:VEVENT
DTSTART;TZID=Australia/Perth:20250603T173000
DTEND;TZID=Australia/Perth:20250603T193000
DTSTAMP:20260424T174629
CREATED:20250519T021821Z
LAST-MODIFIED:20250519T022605Z
UID:62769-1748971800-1748979000@waota.com.au
SUMMARY:Hand Interest Group PD 3.06.25
DESCRIPTION:The upcoming WAOTA Hand Therapy Interest Group PD is on Tuesday 3rd June 2025 via Zoom from 5:30pm – 7:30pm. \nThe WAOTA HIG will be running a PD on the 3rd of June and will involve presentations from two senior therapists. The presenters will be Nandi Reynders\, a Senior Hand Therapist from Hand Works who will be presenting on trigger thumb and current research surrounding its treatment\, and Jocasta Lilleyman\, a Senior Hand Therapist from InHand who will be presenting on carpal tunnel syndrome. \nCost:\nWAOTA Members free (Please log into your account via our website to receive the member rate https://waota.com.au/login/ )\nNon-members $20.00 \nPlease be aware that\, due to changes in the WAOTA policies\, only WAOTA members will receive a Certificate of Attendance after attending the meeting. Non-members are encouraged to retain their receipt and complete a written reflection on the PD session in accordance with Ahpra requirements for continuing professional development. \nBook Online
URL:https://waota.com.au/event/hand-interest-group-pd-3-06-25/
LOCATION:Virtually Online
CATEGORIES:Interest Group Courses
ORGANIZER;CN="Hand Interest Group":MAILTO:handinterestgroup@gmail.com
END:VEVENT
END:VCALENDAR