BEGIN:VCALENDAR
VERSION:2.0
PRODID:-//WA Occupational Therapy Association - ECPv6.15.18//NONSGML v1.0//EN
CALSCALE:GREGORIAN
METHOD:PUBLISH
X-ORIGINAL-URL:https://waota.com.au
X-WR-CALDESC:Events for WA Occupational Therapy Association
REFRESH-INTERVAL;VALUE=DURATION:PT1H
X-Robots-Tag:noindex
X-PUBLISHED-TTL:PT1H
BEGIN:VTIMEZONE
TZID:Australia/Perth
BEGIN:STANDARD
TZOFFSETFROM:+0800
TZOFFSETTO:+0800
TZNAME:AWST
DTSTART:20230101T000000
END:STANDARD
END:VTIMEZONE
BEGIN:VEVENT
DTSTART;TZID=Australia/Perth:20240827T173000
DTEND;TZID=Australia/Perth:20240827T193000
DTSTAMP:20260425T085048
CREATED:20240806T035031Z
LAST-MODIFIED:20240806T035031Z
UID:62037-1724779800-1724787000@waota.com.au
SUMMARY:Hand Interest Group PD 27.8
DESCRIPTION:The WAOTA Hand Interest Group is pleased to invite you to our second meeting of the year on Tuesday 27th August 2024 via Zoom from 5:30pm – 7:30pm. \nWe’re excited to announce the following three presentations from Specialised Hand Therapy: \n\nULFI vs DASH assessments – Peter Lum\nFunctional Assessment of Handwriting – Jessica Chan\nPost-op management of ORL repairs – Jessica Mirabile\n\nKind Regards\, Bryce Marshall and Catie Bott\, Occupational Therapists\, HIG Convenors \nCost:\nWAOTA Members free (Please log into your account via our website to receive the member rate https://waota.com.au/login/ )\nNon-members $20.00 \nPlease be aware that\, due to recent changes in the WAOTA policies\, members only will receive a Certificate of Attendance after attending this meeting. Non-members are encouraged to retain their receipt and complete a written reflection on the PD session in accordance with AHPRA requirements for continuing professional development. \nBook Online
URL:https://waota.com.au/event/hand-interest-group-pd-27-8/
LOCATION:Zoom Online
CATEGORIES:Courses,Interest Group Courses
ORGANIZER;CN="Hand Interest Group":MAILTO:handinterestgroup@gmail.com
END:VEVENT
END:VCALENDAR