BEGIN:VCALENDAR
VERSION:2.0
PRODID:-//WA Occupational Therapy Association - ECPv6.15.18//NONSGML v1.0//EN
CALSCALE:GREGORIAN
METHOD:PUBLISH
X-ORIGINAL-URL:https://waota.com.au
X-WR-CALDESC:Events for WA Occupational Therapy Association
REFRESH-INTERVAL;VALUE=DURATION:PT1H
X-Robots-Tag:noindex
X-PUBLISHED-TTL:PT1H
BEGIN:VTIMEZONE
TZID:Australia/Perth
BEGIN:STANDARD
TZOFFSETFROM:+0800
TZOFFSETTO:+0800
TZNAME:AWST
DTSTART:20240101T000000
END:STANDARD
END:VTIMEZONE
BEGIN:VEVENT
DTSTART;TZID=Australia/Perth:20250217T173000
DTEND;TZID=Australia/Perth:20250217T193000
DTSTAMP:20260425T023908
CREATED:20250113T043238Z
LAST-MODIFIED:20250113T043238Z
UID:62415-1739813400-1739820600@waota.com.au
SUMMARY:Hand Interest Group PD 17.02
DESCRIPTION:The WAOTA Hand Therapy Interest Group is pleased to invite you to our first meeting of the year on Monday 17th February 2025 via Zoom from 5:30pm – 7:30pm. \nWe’re excited to announce the following three presentations from RediMed: \n\nFCR/FCU repairs – Rebecca Anderson\nDistal bicep repairs – Caitlin Pryce\nPIP joint replacements – Thisbe Armanasco\n\nCost:\nWAOTA Members free (Please log into your account via our website to receive the member rate https://waota.com.au/login/ )\nNon-members $20.00 \nPlease be aware that\, due to changes in the WAOTA policies\, only WAOTA members will receive a Certificate of Attendance after attending the meeting. Non-members are encouraged to retain their receipt and complete a written reflection on the PD session in accordance with Ahpra requirements for continuing professional development. \nWe hope to see you online! \nBook Online
URL:https://waota.com.au/event/hand-interest-group-pd-17-02/
LOCATION:Zoom Online
CATEGORIES:Courses,Interest Group Courses
ORGANIZER;CN="Hand Interest Group":MAILTO:handinterestgroup@gmail.com
END:VEVENT
END:VCALENDAR