BEGIN:VCALENDAR
VERSION:2.0
PRODID:-//WA Occupational Therapy Association - ECPv6.15.18//NONSGML v1.0//EN
CALSCALE:GREGORIAN
METHOD:PUBLISH
X-WR-CALNAME:WA Occupational Therapy Association
X-ORIGINAL-URL:https://waota.com.au
X-WR-CALDESC:Events for WA Occupational Therapy Association
REFRESH-INTERVAL;VALUE=DURATION:PT1H
X-Robots-Tag:noindex
X-PUBLISHED-TTL:PT1H
BEGIN:VTIMEZONE
TZID:Australia/Perth
BEGIN:STANDARD
TZOFFSETFROM:+0800
TZOFFSETTO:+0800
TZNAME:AWST
DTSTART:20240101T000000
END:STANDARD
END:VTIMEZONE
BEGIN:VEVENT
DTSTART;TZID=Australia/Perth:20250227T073000
DTEND;TZID=Australia/Perth:20250227T083000
DTSTAMP:20260424T234611
CREATED:20250121T050915Z
LAST-MODIFIED:20250226T050932Z
UID:62492-1740641400-1740645000@waota.com.au
SUMMARY:OT Services in the Home Interest Group PD 27.2.2025
DESCRIPTION:OT Services in the Home Interest Group \nOur first interest group presentation for the year will be from Occupational Therapist Faye Baker from Osborne Park Hospital. Faye will provide an overview of the services provided by OT with a focus on outpatient clinics. She will discuss inclusion criteria\, program content\, outcomes\, and referral pathways. \nFaye has 8 years of experience across residential aged care\, community home visiting and outpatient rehabilitation and has a passion for falls prevention and promoting patient centred care. Faye currently works in the OPH / SCGH falls clinic as a senior Occupational Therapist where she provides targeted falls prevention education and interventions for community dwelling older adults through a collaborative multidisciplinary approach. \nCost:\nWAOTA Members free (Please log into your account via our website to receive the member rate https://waota.com.au/login/ )\nNon-members $20.00 \nDue to recent changes in the WAOTA policies\, members only will receive a Certificate of Attendance after attending this meeting. Non-members are encouraged to retain their receipt and complete a written reflection on the PD session in accordance with Ahpra requirements for continuing professional development. \nBook Online
URL:https://waota.com.au/event/ot-services-in-the-home-interest-group-pd-27-2-2025/
LOCATION:Virtually Online
CATEGORIES:Interest Group Courses
ORGANIZER;CN="OT Services in the Home Interest Group":MAILTO:otservicesinthehome@waota.com.au
END:VEVENT
END:VCALENDAR